BEGIN:VCALENDAR
PRODID:-//github.com/rianjs/ical.net//NONSGML ical.net 4.0//EN
VERSION:2.0
BEGIN:VEVENT
DESCRIPTION:Jeden Montag findet morgens eine Radtour statt.\nhttps://toure
 n-termine.adfc.de/radveranstaltung/185566-montag-morgen-tour
DTEND:20260119T110000Z
DTSTAMP:20260423T201428Z
DTSTART:20260119T090000Z
LOCATION:In der Ahe 29\, 27356 Rotenburg
SEQUENCE:0
SUMMARY:Montag Morgen Tour
UID:bd6a750c-3610-449f-909c-9e217918414a
URL:https://touren-termine.adfc.de/radveranstaltung/185566-montag-morgen-t
 our
END:VEVENT
END:VCALENDAR
