BEGIN:VCALENDAR
PRODID:-//github.com/rianjs/ical.net//NONSGML ical.net 4.0//EN
VERSION:2.0
BEGIN:VEVENT
DESCRIPTION:Zum Wochenausklang radeln wir gemeinsam aus der Stadt heraus u
 nd genießen zusammen den Feierabend.\nUnterwegs ist ein kurzer Halt vorge
 sehen.\nhttps://touren-termine.adfc.de/radveranstaltung/191539-entspannt-
 ins-wochenende
DTEND:20260821T180000Z
DTSTAMP:20260423T170029Z
DTSTART:20260821T160000Z
LOCATION:Nürnberg\, U-Bahn-Station Röthenbach\, am Aufzug\, 90449 Nürnberg
 \, 90449 Nürnberg
SEQUENCE:0
SUMMARY:Entspannt ins Wochenende
UID:00cc2cb7-22f1-4e05-b2ba-e4a08eea3a54
URL:https://touren-termine.adfc.de/radveranstaltung/191539-entspannt-ins-w
 ochenende
END:VEVENT
END:VCALENDAR
