BEGIN:VCALENDAR
PRODID:-//github.com/rianjs/ical.net//NONSGML ical.net 4.0//EN
VERSION:2.0
BEGIN:VEVENT
DESCRIPTION:In gemütlicher Runde plaudern Radfahrbegeisterte über Touren\,
  Technik\, Verkehr usw.. Gäste sind herzlich eingeladen.\nhttps://touren-
 termine.adfc.de/radveranstaltung/162231-monatliches-treffen-august-thaers
 -wirtshaus
DTEND:20250806T190000Z
DTSTAMP:20260421T184643Z
DTSTART:20250806T163000Z
LOCATION:Thaerplatz 1\, 29221 Celle
SEQUENCE:0
SUMMARY:Monatliches Treffen\, August (Thaers Wirtshaus)
UID:b1e18f79-e2d7-489f-8052-ba041ec2b388
URL:https://touren-termine.adfc.de/radveranstaltung/162231-monatliches-tre
 ffen-august-thaers-wirtshaus
END:VEVENT
END:VCALENDAR
