BEGIN:VCALENDAR
PRODID:-//github.com/rianjs/ical.net//NONSGML ical.net 4.0//EN
VERSION:2.0
BEGIN:VEVENT
DESCRIPTION:Im Fahrradparkhaus am Südausgang des Hauptbahnhofs stehen rund
  400 Stellplätze – auch für Lastenräder – bereit. Es gibt Schließfächer\,
  Lademöglichkeiten für E-Bikes sowie Werkzeug für Kleinreparaturen\nhttps
 ://touren-termine.adfc.de/radveranstaltung/106931-der-fahrradspeicher-par
 khaus-am-hauptbahnhof
DTEND:20230915T160000Z
DTSTAMP:20260421T193946Z
DTSTART:20230915T150000Z
LOCATION:Nürnberg\, Hauptbahnhof Südausgang\, 90459 Nürnberg
SEQUENCE:0
SUMMARY:Der Fahrradspeicher (Parkhaus) am Hauptbahnhof
UID:19be11f4-39d8-47cf-91ba-95a2d57caf33
URL:https://touren-termine.adfc.de/radveranstaltung/106931-der-fahrradspei
 cher-parkhaus-am-hauptbahnhof
END:VEVENT
END:VCALENDAR
