BEGIN:VCALENDAR
PRODID:-//github.com/rianjs/ical.net//NONSGML ical.net 4.0//EN
VERSION:2.0
BEGIN:VEVENT
DESCRIPTION:30-35 km\, gemütliches Tempo um 15 km/h mit Pausen und Einkehr
 \, Treffpunkt Parkplatz am Stadtwald RY\, 13:00 Uhr\, jeden 4. Donnerstag
  im Monat von Mai bis September\, ggf. Oktober (witterungsabhängig).\nhtt
 ps://touren-termine.adfc.de/radveranstaltung/186287-adfcseniorentour-2026
DTEND:20261120T150000Z
DTSTAMP:20260420T231253Z
DTSTART:20260723T110000Z
LOCATION:An der Rheydter Höhe 54\, 41239 Mönchengladbach
SEQUENCE:0
SUMMARY:ADFC-Seniorentour 2026
UID:0df3cf51-89de-46d5-91f6-c72e3051ac46
URL:https://touren-termine.adfc.de/radveranstaltung/186287-adfcseniorentou
 r-2026
END:VEVENT
END:VCALENDAR
