BEGIN:VCALENDAR
PRODID:-//github.com/rianjs/ical.net//NONSGML ical.net 4.0//EN
VERSION:2.0
BEGIN:VEVENT
DESCRIPTION:Vom Fredenbaum über veschiedene Radwegen\, nach  Olfen.\nhttps
 ://touren-termine.adfc.de/radveranstaltung/148760-olfen-steverauen-ternsc
 hersee-bork
DTEND:20250603T160000Z
DTSTAMP:20260421T114753Z
DTSTART:20250603T080000Z
LOCATION:Klinikzentrum Nord\, Schützenstr./Beethovenstr.\, 44147 Dortmund
SEQUENCE:0
SUMMARY:Olfen Steverauen / Ternschersee \,Bork
UID:3f8fe635-729a-4255-9fdc-c806cbf7ddfe
URL:https://touren-termine.adfc.de/radveranstaltung/148760-olfen-steveraue
 n-ternschersee-bork
END:VEVENT
END:VCALENDAR
