BEGIN:VCALENDAR
PRODID:-//github.com/rianjs/ical.net//NONSGML ical.net 4.0//EN
VERSION:2.0
BEGIN:VEVENT
DESCRIPTION:Immer mittwochs bis September. 40 km in 2 Stunden mit Pause(n)
 .\nTreffpunkt: 18 Uhr Fansteinraute im Borussia-Park\nhttps://touren-term
 ine.adfc.de/radveranstaltung/118600-adfcafterworksporttour-2024
DTEND:20240515T180000Z
DTSTAMP:20260421T231304Z
DTSTART:20240515T160000Z
LOCATION:Fan-Raute am Borussia Park\, 41179 Mönchengladbach
SEQUENCE:0
SUMMARY:ADFC-Afterwork-Sporttour 2024
UID:c1fe1c02-9e11-42c1-897c-8972621385e1
URL:https://touren-termine.adfc.de/radveranstaltung/118600-adfcafterworksp
 orttour-2024
END:VEVENT
END:VCALENDAR
