BEGIN:VCALENDAR
PRODID:-//github.com/rianjs/ical.net//NONSGML ical.net 4.0//EN
VERSION:2.0
BEGIN:VEVENT
DESCRIPTION:Mobile Fahrradwerkstatt zum selbst schrauben: Jeden 3. Samstag
  im Monat 14 – 17 Uhr auf dem Quartiersplatz in Langenhagen-Wiesenau\nhtt
 ps://touren-termine.adfc.de/radveranstaltung/158765-extern-quartiersschra
 uber-wiesenau-
DTEND:20250719T150000Z
DTSTAMP:20260424T173224Z
DTSTART:20250719T120000Z
LOCATION:Quartierstreff: Freiligrathstraße 11\, 30851 Langenhagen
SEQUENCE:0
SUMMARY:Extern: "„Quartiersschrauber Wiesenau“ ⓇⓈ
UID:5e314d8e-8021-43f8-8f53-7564af1f1fcd
URL:https://touren-termine.adfc.de/radveranstaltung/158765-extern-quartier
 sschrauber-wiesenau-
END:VEVENT
END:VCALENDAR
