BEGIN:VCALENDAR
PRODID:-//github.com/rianjs/ical.net//NONSGML ical.net 4.0//EN
VERSION:2.0
BEGIN:VEVENT
DESCRIPTION:Tagestour\nhttps://touren-termine.adfc.de/radveranstaltung/113
 769-tagestour-emslandtour
DTEND:20240811T160000Z
DTSTAMP:20260421T101133Z
DTSTART:20240811T080000Z
LOCATION:Alte Bahnhofstraße 1a (Sparkasse)\, Möhlenwarf\, 26826 Weener
SEQUENCE:0
SUMMARY:Tagestour Emsland-Tour
UID:8fcc0335-e128-4dad-876e-25d203be5931
URL:https://touren-termine.adfc.de/radveranstaltung/113769-tagestour-emsla
 ndtour
END:VEVENT
END:VCALENDAR
