BEGIN:VCALENDAR
PRODID:-//github.com/rianjs/ical.net//NONSGML ical.net 4.0//EN
VERSION:2.0
BEGIN:VEVENT
DESCRIPTION:Jeden Montag findet morgens eine Radtour statt.\nhttps://toure
 n-termine.adfc.de/radveranstaltung/135191-montag-morgen-tour
DTEND:20240715T100000Z
DTSTAMP:20260423T201905Z
DTSTART:20240715T080000Z
LOCATION:In der Ahe 29\, 27356 Rotenburg
SEQUENCE:0
SUMMARY:Montag Morgen Tour
UID:7aa1ee4c-eb0d-46a9-ad01-27770a692c84
URL:https://touren-termine.adfc.de/radveranstaltung/135191-montag-morgen-t
 our
END:VEVENT
END:VCALENDAR
