BEGIN:VCALENDAR
PRODID:-//github.com/rianjs/ical.net//NONSGML ical.net 4.0//EN
VERSION:2.0
BEGIN:VEVENT
DESCRIPTION:Eine kleine winterliche Runde von Feuerbach nach Leonberg und 
 im Glemstal über Ditzingen zurück\nhttps://touren-termine.adfc.de/radvera
 nstaltung/112655-feuerbach-leonberg-und-zuruck
DTEND:20240106T150000Z
DTSTAMP:20260424T143303Z
DTSTART:20240106T090000Z
LOCATION:Wiener Platz\, 70469 Stuttgart
SEQUENCE:0
SUMMARY:Feuerbach Leonberg und zurück
UID:496ba0db-f086-45a6-ab8c-645c46b6b638
URL:https://touren-termine.adfc.de/radveranstaltung/112655-feuerbach-leonb
 erg-und-zuruck
END:VEVENT
END:VCALENDAR
