BEGIN:VCALENDAR
PRODID:-//github.com/rianjs/ical.net//NONSGML ical.net 4.0//EN
VERSION:2.0
BEGIN:VEVENT
DESCRIPTION:Eine Radtour diagonal durch Deutschland\nhttps://touren-termin
 e.adfc.de/radveranstaltung/172188-von-berlin-nach-stuttgart
DTEND:20260513T130000Z
DTSTAMP:20260424T143553Z
DTSTART:20260503T070000Z
LOCATION:Wackenbergstraße\, 13156 Berlin
SEQUENCE:0
SUMMARY:Von Berlin nach Stuttgart
UID:e83bc38a-8c60-4f4d-afdb-c4c6bf433cd2
URL:https://touren-termine.adfc.de/radveranstaltung/172188-von-berlin-nach
 -stuttgart
END:VEVENT
END:VCALENDAR
