BEGIN:VCALENDAR
PRODID:-//github.com/rianjs/ical.net//NONSGML ical.net 4.0//EN
VERSION:2.0
BEGIN:VEVENT
DESCRIPTION:Traditionell bietet der ADFC Siegen-Wittgenstein vor dem monat
 lichen Radelstammtisch eine Feierabendtour an. Diesmal geht es entlang de
 r Sieg auf die Sandhalde in Niederschelden.\nhttps://touren-termine.adfc.
 de/radveranstaltung/165611-schone-aussicht-von-der-schelder-sandhalde
DTEND:20250603T173000Z
DTSTAMP:20260423T030800Z
DTSTART:20250603T160000Z
LOCATION:Jakob-Scheiner-Platz\, 57072 Siegen
SEQUENCE:0
SUMMARY:Schöne Aussicht von der Schelder Sandhalde
UID:113ae276-2a06-43d9-a897-83f517eb1b31
URL:https://touren-termine.adfc.de/radveranstaltung/165611-schone-aussicht
 -von-der-schelder-sandhalde
END:VEVENT
END:VCALENDAR
