BEGIN:VCALENDAR
PRODID:-//github.com/rianjs/ical.net//NONSGML ical.net 4.0//EN
VERSION:2.0
BEGIN:VEVENT
DESCRIPTION:Infostand in Landsberg am Hauptplatz\nhttps://touren-termine.a
 dfc.de/radveranstaltung/197173-adfcinfostand-und-fahrradcodierung
DTEND:20260509T110000Z
DTSTAMP:20260420T173030Z
DTSTART:20260509T070000Z
LOCATION:Hauptplatz\,\, 86899 Landsberg am Lech
SEQUENCE:0
SUMMARY:ADFC-Infostand und Fahrradcodierung
UID:cde9cd70-7d64-4a5f-8d23-510e29c15e10
URL:https://touren-termine.adfc.de/radveranstaltung/197173-adfcinfostand-u
 nd-fahrradcodierung
END:VEVENT
END:VCALENDAR
