BEGIN:VCALENDAR
PRODID:-//github.com/rianjs/ical.net//NONSGML ical.net 4.0//EN
VERSION:2.0
BEGIN:VEVENT
DESCRIPTION:Wir wollen mal wieder zum Baumblütenfest nach Werder. Nicht au
 f die Insel in den Trubel\, sondern auf netten Obsthöfen unter Bäumen. Lä
 nge: 57 km.\nhttps://touren-termine.adfc.de/radveranstaltung/198215-zum-b
 aumblutenfest
DTEND:20260502T160000Z
DTSTAMP:20260424T230635Z
DTSTART:20260502T071000Z
LOCATION:Bhf. Zoologischer Garten\, Eingangshalle neben dem Fahrstuhl Glei
 s 3/4\, 10623 Berlin
SEQUENCE:0
SUMMARY:Zum Baumblütenfest
UID:3bd9cf10-948f-4055-99de-eaf0380d3028
URL:https://touren-termine.adfc.de/radveranstaltung/198215-zum-baumblutenf
 est
END:VEVENT
END:VCALENDAR
