BEGIN:VCALENDAR
PRODID:-//github.com/rianjs/ical.net//NONSGML ical.net 4.0//EN
VERSION:2.0
BEGIN:VEVENT
DESCRIPTION:Von Frickhofen startend befahren wir den Westerwald rund um de
 n Knoten\nhttps://touren-termine.adfc.de/radveranstaltung/186480-rund-um-
 den-knoten-rennerod
DTEND:20260426T150000Z
DTSTAMP:20260420T111811Z
DTSTART:20260426T090000Z
LOCATION:Bahnhofstraße\, Bahnhof Frickhofen\, 65599 Landkreis Limburg-Weil
 burg
SEQUENCE:0
SUMMARY:Rund um den Knoten Rennerod
UID:8789168d-eba5-46c2-931c-3025c6c9d463
URL:https://touren-termine.adfc.de/radveranstaltung/186480-rund-um-den-kno
 ten-rennerod
END:VEVENT
END:VCALENDAR
