BEGIN:VCALENDAR
PRODID:-//github.com/rianjs/ical.net//NONSGML ical.net 4.0//EN
VERSION:2.0
BEGIN:VEVENT
DESCRIPTION:Jeden Mittwoch vom 1.4. bis zum 31.8.2026\nStart 18.oo am Rath
 aus Gbw\, ca 30km\nhttps://touren-termine.adfc.de/radveranstaltung/192729
 -kurztour
DTEND:20260520T180000Z
DTSTAMP:20260423T182648Z
DTSTART:20260520T160000Z
LOCATION:Fuhrberger Straße 4\, 30938 Burgwedel
SEQUENCE:0
SUMMARY:Kurztour
UID:e8c6fcb5-ae83-4df8-8d9d-b6d091a00d0e
URL:https://touren-termine.adfc.de/radveranstaltung/192729-kurztour
END:VEVENT
END:VCALENDAR
