BEGIN:VCALENDAR
PRODID:-//github.com/rianjs/ical.net//NONSGML ical.net 4.0//EN
VERSION:2.0
BEGIN:VEVENT
DESCRIPTION:Dienstags & Donnerstags zwischen 18:00 und 20:00 Uhr kann dort
  jeder\, sein Fahrrad eigenverantwortlich selbst reparieren - wenn nötig 
 unter Anleitung oder Mithilfe unsere Werkstattteams\nhttps://touren-termi
 ne.adfc.de/radveranstaltung/115605-selbsthilfewerkstatt-ist-geoffnet
DTEND:20240917T180000Z
DTSTAMP:20260424T151411Z
DTSTART:20240917T160000Z
LOCATION:ADFC-Selbsthilfewerkstatt\, Weinweg 2\, 93049 Regensburg
SEQUENCE:0
SUMMARY:Selbsthilfewerkstatt ist geöffnet
UID:ae77396f-6fdf-4a9c-adfe-21fa343a7a4b
URL:https://touren-termine.adfc.de/radveranstaltung/115605-selbsthilfewerk
 statt-ist-geoffnet
END:VEVENT
END:VCALENDAR
