BEGIN:VCALENDAR
PRODID:-//github.com/rianjs/ical.net//NONSGML ical.net 4.0//EN
VERSION:2.0
BEGIN:VEVENT
DESCRIPTION:Radlertreff im Glossner Bräustübl\nhttps://touren-termine.adfc
 .de/radveranstaltung/144778-radlertreff
DTEND:20250131T210000Z
DTSTAMP:20260425T021603Z
DTSTART:20250131T180000Z
LOCATION:Glossner Bräustübl\, Schwesterhausgasse 9\, 92318 Neumarkt in der
  Oberpfalz
SEQUENCE:0
SUMMARY:Radlertreff
UID:a6bba1db-9d22-49df-bd64-165431fd2d28
URL:https://touren-termine.adfc.de/radveranstaltung/144778-radlertreff
END:VEVENT
END:VCALENDAR
