BEGIN:VCALENDAR
PRODID:-//github.com/rianjs/ical.net//NONSGML ical.net 4.0//EN
VERSION:2.0
BEGIN:VEVENT
DESCRIPTION:Auf neuen und nicht mehr ganz so neuen Siegener Radwegen zum G
 artenhaus.\nhttps://touren-termine.adfc.de/radveranstaltung/148593-feiera
 bendtour-siegen
DTEND:20250304T183000Z
DTSTAMP:20260423T030706Z
DTSTART:20250304T170000Z
LOCATION:Jakob-Scheiner-Platz\, 57072 Siegen
SEQUENCE:0
SUMMARY:Feierabendtour Siegen
UID:563d76b8-f4d3-4aa9-802f-5c3d5f0ed2c2
URL:https://touren-termine.adfc.de/radveranstaltung/148593-feierabendtour-
 siegen
END:VEVENT
END:VCALENDAR
