BEGIN:VCALENDAR
PRODID:-//github.com/rianjs/ical.net//NONSGML ical.net 4.0//EN
VERSION:2.0
BEGIN:VEVENT
DESCRIPTION:ca. 45 km\, 16-18 km/h\, Start: Aachen-Westbahnhof\, 15.03.202
 5\, 10:30 Uhr. Besuch der Outlets der Firmen Lindt und Lambertz\, danach 
 zum Drei-Länder-Eck und über Gut Entenpfuhl und Pionierquelle zurück.\nht
 tps://touren-termine.adfc.de/radveranstaltung/156526-rund-um-aachen-mit-s
 chokolade-und-printen
DTEND:20250315T160000Z
DTSTAMP:20260420T232148Z
DTSTART:20250315T093000Z
LOCATION:Seffenter Weg\, 52072 Aachen
SEQUENCE:0
SUMMARY:Rund um Aachen mit  Schokolade und Printen
UID:cfc8fec9-c818-46ea-bb8b-d2ee0d4caa90
URL:https://touren-termine.adfc.de/radveranstaltung/156526-rund-um-aachen-
 mit-schokolade-und-printen
END:VEVENT
END:VCALENDAR
