BEGIN:VCALENDAR
PRODID:-//github.com/rianjs/ical.net//NONSGML ical.net 4.0//EN
VERSION:2.0
BEGIN:VEVENT
DESCRIPTION:E-Bike Tour bei jedem Wetter von Kreuztal durch den Freudenber
 ger Tunnel zum Brauhaus nach Olpe. Rückfahrt  über Fahlenscheid. Kurze St
 ücke  auf offiziellen Straßen\, ansonsten Rad- und Waldwege.\nhttps://tou
 ren-termine.adfc.de/radveranstaltung/107487-ebike-tour-bei-jedem-wetter-a
 n-die-bigge
DTEND:20231003T150000Z
DTSTAMP:20260422T234814Z
DTSTART:20231003T080000Z
LOCATION:Marburger Straße\, Roter Platz\, 57223 Kreuztal
SEQUENCE:0
SUMMARY:E-Bike Tour bei jedem Wetter an die Bigge
UID:a4ada321-20e6-461e-896a-241eee87a86b
URL:https://touren-termine.adfc.de/radveranstaltung/107487-ebike-tour-bei-
 jedem-wetter-an-die-bigge
END:VEVENT
END:VCALENDAR
