BEGIN:VCALENDAR
PRODID:-//github.com/rianjs/ical.net//NONSGML ical.net 4.0//EN
VERSION:2.0
BEGIN:VEVENT
DESCRIPTION:Unsere Geschäftsstelle ist für alle Anliegen und offenen Frage
 n geöffnet.\nhttps://touren-termine.adfc.de/radveranstaltung/147994-offnu
 ngszeit-unserer-geschaftsstelle
DTEND:20251107T170000Z
DTSTAMP:20260421T121006Z
DTSTART:20251107T150000Z
LOCATION:Essen (Innenstadt)\, ADFC Essen Geschäftsstelle\, Rottstraße 5\, 
 45127 Essen
SEQUENCE:0
SUMMARY:Öffnungszeit unserer Geschäftsstelle
UID:e7c35524-bf37-41e4-a472-19a8e818568b
URL:https://touren-termine.adfc.de/radveranstaltung/147994-offnungszeit-un
 serer-geschaftsstelle
END:VEVENT
END:VCALENDAR
