BEGIN:VCALENDAR
PRODID:-//github.com/rianjs/ical.net//NONSGML ical.net 4.0//EN
VERSION:2.0
BEGIN:VEVENT
DESCRIPTION:Bei  diesem  Vorbereitungstreffen  wollen  wir  uns  die  Fina
 nzen  des  ADFC  Hamburg  genauer  ansehen. Der Jahresabschluss 2024 und 
 Haushaltsplan 2025 werden vorgestellt und detailliert besprochen.\nhttps:
 //touren-termine.adfc.de/radveranstaltung/174173-vorbereitungstreffen-fin
 anzen-2025
DTEND:20251107T160000Z
DTSTAMP:20260421T024347Z
DTSTART:20251107T140000Z
LOCATION:ADFC Hamburg\, Geschäftsstelle\, Koppel 34-36\, 20099 Hamburg
SEQUENCE:0
SUMMARY:Vorbereitungstreffen Finanzen 2025
UID:ddeb8b97-7b57-4dd8-aaca-e9383541c5d8
URL:https://touren-termine.adfc.de/radveranstaltung/174173-vorbereitungstr
 effen-finanzen-2025
END:VEVENT
END:VCALENDAR
