BEGIN:VCALENDAR
PRODID:-//github.com/rianjs/ical.net//NONSGML ical.net 4.0//EN
VERSION:2.0
BEGIN:VEVENT
DESCRIPTION:Diese Radtour führt uns nach Roth zum Schloß Ratibor wo wir da
 s interessante Musem besichtigen.\nhttps://touren-termine.adfc.de/radvera
 nstaltung/168979-radtour-nach-roth-zum-schloss-ratibor
DTEND:20260823T153000Z
DTSTAMP:20260424T231737Z
DTSTART:20260823T070000Z
LOCATION:Schauturm im LGS-Gelände\, Dr.-Kurz-Str.\,\, 92318 Neumarkt in de
 r Oberpfalz
SEQUENCE:0
SUMMARY:Radtour nach Roth zum Schloß Ratibor
UID:c14095ca-22ed-4902-8803-5a344a102328
URL:https://touren-termine.adfc.de/radveranstaltung/168979-radtour-nach-ro
 th-zum-schloss-ratibor
END:VEVENT
END:VCALENDAR
