BEGIN:VCALENDAR
PRODID:-//github.com/rianjs/ical.net//NONSGML ical.net 4.0//EN
VERSION:2.0
BEGIN:VEVENT
DESCRIPTION:Ein Rundkurs von Feuerbach nach Sindelfingen und zurück\nhttps
 ://touren-termine.adfc.de/radveranstaltung/122734-feuerbach-sindelfingen
DTEND:20240310T160000Z
DTSTAMP:20260424T142428Z
DTSTART:20240310T090000Z
LOCATION:Wiener Platz\, 70469 Stuttgart
SEQUENCE:0
SUMMARY:Feuerbach - Sindelfingen
UID:51f0dc0e-636d-4688-bcc1-0ada4183af25
URL:https://touren-termine.adfc.de/radveranstaltung/122734-feuerbach-sinde
 lfingen
END:VEVENT
END:VCALENDAR
