BEGIN:VCALENDAR
PRODID:-//github.com/rianjs/ical.net//NONSGML ical.net 4.0//EN
VERSION:2.0
BEGIN:VEVENT
DESCRIPTION:Südländisches Urlaubsfeeling im Palmengarten\nhttps://touren-t
 ermine.adfc.de/radveranstaltung/183013-palmengartenradtour
DTEND:20260719T150000Z
DTSTAMP:20260421T163836Z
DTSTART:20260719T103000Z
LOCATION:Borndalschule\, Gooiker Platz 3\, 48341 Kreis Steinfurt
SEQUENCE:0
SUMMARY:Palmengarten-Radtour
UID:5b95c053-2db5-432f-9a26-879180e479e9
URL:https://touren-termine.adfc.de/radveranstaltung/183013-palmengartenrad
 tour
END:VEVENT
END:VCALENDAR
