BEGIN:VCALENDAR
PRODID:-//github.com/rianjs/ical.net//NONSGML ical.net 4.0//EN
VERSION:2.0
BEGIN:VEVENT
DESCRIPTION:An der Spree entlang nach Ruhleben. Zur Murellenschlucht\, den
  Tiefwerder-Wiesen und zum Teufelsberg im Grunewald. Über Wilmersdorf zur
 ück zum Startpunkt.\nhttps://touren-termine.adfc.de/radveranstaltung/1294
 08-murellenschlucht-und-teufelsberg
DTEND:20240331T120000Z
DTSTAMP:20260425T133133Z
DTSTART:20240331T080000Z
LOCATION:ADFC Velokiez\, Möckernstraße 47\, 10963 Berlin
SEQUENCE:0
SUMMARY:Murellenschlucht und Teufelsberg
UID:6bdc6d8f-3dd3-4f6c-aa70-f87122fd5c86
URL:https://touren-termine.adfc.de/radveranstaltung/129408-murellenschluch
 t-und-teufelsberg
END:VEVENT
END:VCALENDAR
