BEGIN:VCALENDAR
PRODID:-//github.com/rianjs/ical.net//NONSGML ical.net 4.0//EN
VERSION:2.0
BEGIN:VEVENT
DESCRIPTION:Der Vorstand und verkehrspolitisch Aktive treffen sich einmal 
 im Monat. Gerne können Sie uns vorab kontaktieren\, wenn Sie Anregungen\,
  Fragen oder Interesse an einer aktiven Mitarbeit haben.\nhttps://touren-
 termine.adfc.de/radveranstaltung/140904-aktiventreffen
DTEND:20241216T205000Z
DTSTAMP:20260420T102307Z
DTSTART:20241216T183000Z
LOCATION:Videokonferenz\, Weiherweg\, 93051 Regensburg
SEQUENCE:0
SUMMARY:Aktiventreffen
UID:82ac0e9c-e8f4-44e8-aad3-a7c3abf05d26
URL:https://touren-termine.adfc.de/radveranstaltung/140904-aktiventreffen
END:VEVENT
END:VCALENDAR
