BEGIN:VCALENDAR
PRODID:-//github.com/rianjs/ical.net//NONSGML ical.net 4.0//EN
VERSION:2.0
BEGIN:VEVENT
DESCRIPTION:Das Motto dieser Radtour heißt Spiel und Spaß für kleine Radfa
 hrer\nhttps://touren-termine.adfc.de/radveranstaltung/162241-radltour-zum
 -spielplatz
DTEND:20250620T150000Z
DTSTAMP:20260424T231819Z
DTSTART:20250620T130000Z
LOCATION:Schauturm im LGS-Gelände\, Dr.-Kurz-Str.\,\, 92318 Neumarkt in de
 r Oberpfalz
SEQUENCE:0
SUMMARY:Radltour zum Spielplatz
UID:1ff11a6c-1483-4603-8549-f9ae9939476d
URL:https://touren-termine.adfc.de/radveranstaltung/162241-radltour-zum-sp
 ielplatz
END:VEVENT
END:VCALENDAR
