BEGIN:VCALENDAR
PRODID:-//github.com/rianjs/ical.net//NONSGML ical.net 4.0//EN
VERSION:2.0
BEGIN:VEVENT
DESCRIPTION:Auf kleinen Straßen und Waldwegen den Weg nach Schloss Homburg
  erkunden. 90km und 1100hm. Der erste Teil folgt der Route nach Köln. Nur
  erfahrene und sportliche Radelnde. Anmeldung bis 30.10. 20.00.\nhttps://
 touren-termine.adfc.de/radveranstaltung/174706-explorertour-schloss-hombu
 rg-pedelec
DTEND:20251031T160000Z
DTSTAMP:20260422T234503Z
DTSTART:20251031T083000Z
LOCATION:Marburgerstraße\, Roter Platz\, 57223 Kreuztal
SEQUENCE:0
SUMMARY:Explorertour Schloss Homburg (Pedelec)
UID:91cae90f-dc65-45cf-81f2-9bbb21c095af
URL:https://touren-termine.adfc.de/radveranstaltung/174706-explorertour-sc
 hloss-homburg-pedelec
END:VEVENT
END:VCALENDAR
