BEGIN:VCALENDAR
PRODID:-//github.com/rianjs/ical.net//NONSGML ical.net 4.0//EN
VERSION:2.0
BEGIN:VEVENT
DESCRIPTION:Ca. 60 km\, 16-18km/h\, Treffpunkt Marktplatz Odenkirchen (Ev.
  Kirche) 06.04.2025 10:30Uhr Heute radeln den Frühling entgegen zum Klost
 er Knechtsteden bei Dormagen\nhttps://touren-termine.adfc.de/radveranstal
 tung/156458-gemutliche-fruhlingstour-zum-kloster-knechtsteden
DTEND:20250406T150000Z
DTSTAMP:20260425T034801Z
DTSTART:20250406T083000Z
LOCATION:Martin-Luther-Platz 1\, 41199 Mönchengladbach
SEQUENCE:0
SUMMARY:Gemütliche Frühlingstour zum Kloster Knechtsteden
UID:23f8d2a0-5291-43c0-8157-775a3aa48e0e
URL:https://touren-termine.adfc.de/radveranstaltung/156458-gemutliche-fruh
 lingstour-zum-kloster-knechtsteden
END:VEVENT
END:VCALENDAR
