BEGIN:VCALENDAR
PRODID:-//github.com/rianjs/ical.net//NONSGML ical.net 4.0//EN
VERSION:2.0
BEGIN:VEVENT
DESCRIPTION:Liebe Mitglieder des ADFC Hamburg\, der Vorstand lädt euch seh
 r herzlich zur diesjährigen Landesversammlung ein.\nhttps://touren-termin
 e.adfc.de/radveranstaltung/142795-landesversammlung-2024
DTEND:20241117T180000Z
DTSTAMP:20260421T024335Z
DTSTART:20241117T140000Z
LOCATION:Koppel 34-36\, 20099 Hamburg
SEQUENCE:0
SUMMARY:Landesversammlung 2024
UID:04d82029-1d45-454e-9fd0-ef122b7b198e
URL:https://touren-termine.adfc.de/radveranstaltung/142795-landesversammlu
 ng-2024
END:VEVENT
END:VCALENDAR
