BEGIN:VCALENDAR
PRODID:-//github.com/rianjs/ical.net//NONSGML ical.net 4.0//EN
VERSION:2.0
BEGIN:VEVENT
DESCRIPTION:Wir fahren kreuz und quer durch die Cuxhavener Küstenheide und
  den Wernerwald.\nhttps://touren-termine.adfc.de/radveranstaltung/176130-
 durch-heide-und-wald
DTEND:20260822T120000Z
DTSTAMP:20260421T103217Z
DTSTART:20260822T120000Z
LOCATION:Bürgerbahnhof\, Am Bahnhof 1\, 27472 Cuxhaven
SEQUENCE:0
SUMMARY:Durch Heide und Wald
UID:75779ce6-bd1b-474e-b395-1179f7a8e43d
URL:https://touren-termine.adfc.de/radveranstaltung/176130-durch-heide-und
 -wald
END:VEVENT
END:VCALENDAR
