BEGIN:VCALENDAR
PRODID:-//github.com/rianjs/ical.net//NONSGML ical.net 4.0//EN
VERSION:2.0
BEGIN:VEVENT
DESCRIPTION:Lernt mit uns die Freiheit des Fahrradfahrens kennen. Gemeinsa
 m üben wir das Fahren und Bremsen und die Verkehrsregeln. - Details und A
 nmeldung für 11-13 Uhr o. 13:30-15:30 Uhr siehe Beschreibung\nhttps://tou
 ren-termine.adfc.de/radveranstaltung/105130-frauenfahrradschule-mit-spass
 -radfahren-lernen
DTEND:20231014T133000Z
DTSTAMP:20260424T050533Z
DTSTART:20231014T090000Z
LOCATION:Jugendverkehrsschule\, Baikalstraße 4\, 10319 Berlin
SEQUENCE:0
SUMMARY:FrauenFahrradSchule: mit Spaß Radfahren lernen
UID:670c44e5-3f26-4e16-8a95-706b3d31d44e
URL:https://touren-termine.adfc.de/radveranstaltung/105130-frauenfahrradsc
 hule-mit-spass-radfahren-lernen
END:VEVENT
END:VCALENDAR
