BEGIN:VCALENDAR
PRODID:-//github.com/rianjs/ical.net//NONSGML ical.net 4.0//EN
VERSION:2.0
BEGIN:VEVENT
DESCRIPTION:Gemeinsam erarbeiten wir\, wie mehr Sicherheit für Kinder und 
 Jugendliche im Hamburger Stadtverkehr erreicht werden kann.\nhttps://tour
 en-termine.adfc.de/radveranstaltung/172510-pg-schulwege-kinder-und-jugend
 mobilitat
DTEND:20251014T190000Z
DTSTAMP:20260420T231929Z
DTSTART:20251014T170000Z
LOCATION:Koppel 34-36\, 20099 Hamburg
SEQUENCE:0
SUMMARY:PG "Schulwege\, Kinder- und Jugendmobilität"
UID:f84e3945-36d2-4e7a-ae2a-05e4bda33707
URL:https://touren-termine.adfc.de/radveranstaltung/172510-pg-schulwege-ki
 nder-und-jugendmobilitat
END:VEVENT
END:VCALENDAR
