BEGIN:VCALENDAR
PRODID:-//github.com/rianjs/ical.net//NONSGML ical.net 4.0//EN
VERSION:2.0
BEGIN:VEVENT
DESCRIPTION:Den Feierabend genießen\, mit den ADFC-Tour-Guides auf einer g
 emütlichen Rad-Runde in und um Kempten herum. Nur bei trockenem Wetter! W
 er Lust hat\, kehrt hinterher noch ein – zum gemeinsamen „Absacker“\nhttp
 s://touren-termine.adfc.de/radveranstaltung/129294-die-adfcfeierabendrund
 e
DTEND:20240604T180000Z
DTSTAMP:20260424T150759Z
DTSTART:20240604T160000Z
LOCATION:Hildegardplatz\, 87435 Kempten (Allgäu)
SEQUENCE:0
SUMMARY:Die ADFC-Feierabendrunde
UID:c7e8bdc6-7859-406f-88d2-686379143938
URL:https://touren-termine.adfc.de/radveranstaltung/129294-die-adfcfeierab
 endrunde
END:VEVENT
END:VCALENDAR
