BEGIN:VCALENDAR
PRODID:-//github.com/rianjs/ical.net//NONSGML ical.net 4.0//EN
VERSION:2.0
BEGIN:VEVENT
DESCRIPTION:Entlang an einem der Quellbäche des Tegeler Fließes folgen wir
  diesem bis zum Mühlteich am Dammsmühler Schloß.. Auf Waldwegen umrunden 
 wir den Mühlenbecker See. Die Tour ist eine Rundtour\nhttps://touren-term
 ine.adfc.de/radveranstaltung/195589-natur-purtegeler-fliess-und-muhlenbec
 ker-see
DTEND:20260426T150000Z
DTSTAMP:20260425T015012Z
DTSTART:20260426T100000Z
LOCATION:Bahnhofsplatz Wandlitzsee / Startpunkt 1\, 16348 Barnim
SEQUENCE:0
SUMMARY:NATUR PUR-Tegeler Fließ und Mühlenbecker See
UID:84f505ad-384d-460f-a584-b8bf5bdd1309
URL:https://touren-termine.adfc.de/radveranstaltung/195589-natur-purtegele
 r-fliess-und-muhlenbecker-see
END:VEVENT
END:VCALENDAR
