BEGIN:VCALENDAR
PRODID:-//github.com/rianjs/ical.net//NONSGML ical.net 4.0//EN
VERSION:2.0
BEGIN:VEVENT
DESCRIPTION:Radtour von Oranienburg zu den OPEN STUDIOS 2025 auf dem Künst
 lerhof Frohnau\nhttps://touren-termine.adfc.de/radveranstaltung/171504-ra
 dtour-zum-kunstlerhof-frohnau
DTEND:20250906T150000Z
DTSTAMP:20260425T232330Z
DTSTART:20250906T100000Z
LOCATION:Bahnhof\, 16515 Oranienburg
SEQUENCE:0
SUMMARY:Radtour zum Künstlerhof Frohnau
UID:594a230b-bc1e-4666-9f56-7aa317cc4272
URL:https://touren-termine.adfc.de/radveranstaltung/171504-radtour-zum-kun
 stlerhof-frohnau
END:VEVENT
END:VCALENDAR
