BEGIN:VCALENDAR
PRODID:-//github.com/rianjs/ical.net//NONSGML ical.net 4.0//EN
VERSION:2.0
BEGIN:VEVENT
DESCRIPTION:Kennenlerntour durch Stuttgarter Stadtteile\nhttps://touren-te
 rmine.adfc.de/radveranstaltung/104513-fahrradstadtteiltour-untere-neckarv
 ororte
DTEND:20230923T140000Z
DTSTAMP:20260424T143942Z
DTSTART:20230923T120000Z
LOCATION:Neckartalstraße\, 70376 Stuttgart
SEQUENCE:0
SUMMARY:Fahrrad-Stadtteiltour Untere Neckarvororte
UID:e35530fc-130b-4350-921e-3d9679bdb724
URL:https://touren-termine.adfc.de/radveranstaltung/104513-fahrradstadttei
 ltour-untere-neckarvororte
END:VEVENT
END:VCALENDAR
