BEGIN:VCALENDAR
PRODID:-//github.com/rianjs/ical.net//NONSGML ical.net 4.0//EN
VERSION:2.0
BEGIN:VEVENT
DESCRIPTION:30 - 35 km\nhttps://touren-termine.adfc.de/radveranstaltung/14
 2583-kurztour
DTEND:20250514T180000Z
DTSTAMP:20260423T105646Z
DTSTART:20250514T160000Z
LOCATION:Rathaus\, Fuhrberger Straße 3\, 30938 Burgwedel
SEQUENCE:0
SUMMARY:Kurztour
UID:e4b0261f-3610-4abd-8898-f722107979b8
URL:https://touren-termine.adfc.de/radveranstaltung/142583-kurztour
END:VEVENT
END:VCALENDAR
