BEGIN:VCALENDAR
PRODID:-//github.com/rianjs/ical.net//NONSGML ical.net 4.0//EN
VERSION:2.0
BEGIN:VEVENT
DESCRIPTION:Der ADFC Hamm lädt zu seiner Mitgliederverammlung ein.\nhttps:
 //touren-termine.adfc.de/radveranstaltung/125703-mitgliederversammlung
DTEND:20240314T193000Z
DTSTAMP:20260421T235140Z
DTSTART:20240314T180000Z
LOCATION:Ostenwall 79\, 59065 Hamm
SEQUENCE:0
SUMMARY:Mitgliederversammlung
UID:da7fd755-01c6-48d3-b81a-3357e20ac251
URL:https://touren-termine.adfc.de/radveranstaltung/125703-mitgliederversa
 mmlung
END:VEVENT
END:VCALENDAR
