BEGIN:VCALENDAR
PRODID:-//github.com/rianjs/ical.net//NONSGML ical.net 4.0//EN
VERSION:2.0
BEGIN:VEVENT
DESCRIPTION:ADFC Fahrradsternfahrt Zubringertour ab Burgwedel\nüber AWB Sc
 hulzentrum zum Sammel-Treffpunkt Steuerndieb\nhttps://touren-termine.adfc
 .de/radveranstaltung/197143-adfc-fahrradsternfahrt-zubringertour-ab-burgw
 edel
DTEND:20260531T110000Z
DTSTAMP:20260423T074751Z
DTSTART:20260531T073000Z
LOCATION:Fuhrberger Straße 4\, 30938 Burgwedel
SEQUENCE:0
SUMMARY:ADFC Fahrradsternfahrt Zubringertour ab Burgwedel
UID:fdee710b-b733-4abd-90f3-30769a654b19
URL:https://touren-termine.adfc.de/radveranstaltung/197143-adfc-fahrradste
 rnfahrt-zubringertour-ab-burgwedel
END:VEVENT
END:VCALENDAR
