BEGIN:VCALENDAR
PRODID:-//github.com/rianjs/ical.net//NONSGML ical.net 4.0//EN
VERSION:2.0
BEGIN:VEVENT
DESCRIPTION:Kinoabend „Cycling Cities“ im wunderbaren Central-Theater: Der
  Dokumentarfilm zeigt\, wie Fahrräder Städte lebenswerter machen. Anschli
 eßend kurzer Austausch. Alle sind herzlich willkommen!\nhttps://touren-te
 rmine.adfc.de/radveranstaltung/192543-adfc-kinoabend-cycling-cities
DTEND:20260429T173000Z
DTSTAMP:20260424T132507Z
DTSTART:20260429T153000Z
LOCATION:Central-Theater Uelzen\, 29525 Uelzen
SEQUENCE:0
SUMMARY:ADFC Kinoabend: Cycling Cities
UID:85f18dae-c5e0-4a0d-b783-6c67d4ff208d
URL:https://touren-termine.adfc.de/radveranstaltung/192543-adfc-kinoabend-
 cycling-cities
END:VEVENT
END:VCALENDAR
