BEGIN:VCALENDAR
PRODID:-//github.com/rianjs/ical.net//NONSGML ical.net 4.0//EN
VERSION:2.0
BEGIN:VEVENT
DESCRIPTION:Online!\nhttps://touren-termine.adfc.de/radveranstaltung/16752
 9-fahrradklimatest-online-die-ergebnisse-
DTEND:20250617T215500Z
DTSTAMP:20260424T173052Z
DTSTART:20250616T220500Z
LOCATION:Grafenberger Straße 79\, 30853 Langenhagen
SEQUENCE:0
SUMMARY:FahrradKlima-Test: Online! Die Ergebnisse ...
UID:43b574f0-9b3e-4d74-990a-74a983016fda
URL:https://touren-termine.adfc.de/radveranstaltung/167529-fahrradklimates
 t-online-die-ergebnisse-
END:VEVENT
END:VCALENDAR
