BEGIN:VCALENDAR
PRODID:-//github.com/rianjs/ical.net//NONSGML ical.net 4.0//EN
VERSION:2.0
BEGIN:VEVENT
DESCRIPTION:Du lebst in Schöneberg\, und möchtest dich für ein menschenger
 echtes\, klimagerechtes und fahrradfreundliches Schöneberg einsetzen?\n\n
 Dann komm dazu!\nhttps://touren-termine.adfc.de/radveranstaltung/117767-t
 reffen-der-stadtteilgruppe-schoneberg
DTEND:20240212T200000Z
DTSTAMP:20260424T020308Z
DTSTART:20240212T180000Z
LOCATION:Cafe Haberland\, Bayerischer Platz\, 10779 Berlin
SEQUENCE:0
SUMMARY:Treffen der Stadtteilgruppe Schöneberg
UID:bf21c2aa-d185-41f3-a654-3c8b511cb9e8
URL:https://touren-termine.adfc.de/radveranstaltung/117767-treffen-der-sta
 dtteilgruppe-schoneberg
END:VEVENT
END:VCALENDAR
