BEGIN:VCALENDAR
PRODID:-//github.com/rianjs/ical.net//NONSGML ical.net 4.0//EN
VERSION:2.0
BEGIN:VEVENT
DESCRIPTION:SBS GBW\, 19.oo - 21.oo\nhttps://touren-termine.adfc.de/radver
 anstaltung/95001-radlertreff-offentlich
DTEND:20231128T200000Z
DTSTAMP:20260423T182658Z
DTSTART:20231128T180000Z
LOCATION:Gartenstraße 10\, 30938 Großburgwedel
SEQUENCE:0
SUMMARY:Radlertreff (öffentlich)
UID:6908bddc-43eb-4d18-a8cf-4bf229d29d83
URL:https://touren-termine.adfc.de/radveranstaltung/95001-radlertreff-offe
 ntlich
END:VEVENT
END:VCALENDAR
