BEGIN:VCALENDAR
PRODID:-//github.com/rianjs/ical.net//NONSGML ical.net 4.0//EN
VERSION:2.0
BEGIN:VEVENT
DESCRIPTION:Feierabentour zum Dorfwirt nach Haunshofen\nhttps://touren-ter
 mine.adfc.de/radveranstaltung/197512-feierabendtour
DTEND:20260821T183000Z
DTSTAMP:20260421T100721Z
DTSTART:20260821T150000Z
LOCATION:Marienplatz\, 82362 Weilheim
SEQUENCE:0
SUMMARY:Feierabendtour
UID:2fcde7a5-ca68-40a3-bcc7-97b2de0d7b84
URL:https://touren-termine.adfc.de/radveranstaltung/197512-feierabendtour
END:VEVENT
END:VCALENDAR
