BEGIN:VCALENDAR
PRODID:-//github.com/rianjs/ical.net//NONSGML ical.net 4.0//EN
VERSION:2.0
BEGIN:VEVENT
DESCRIPTION:Vom Turm über Fredenbaum\, Bodelschwingh\, Deinighausen vorbei
  an Henrichenburg nach Horneburg. Durch Wiesen und Felder zur Haard. Durc
 h die Haard nach Flaesheim und von dort zum Haltener Stausee.\nhttps://to
 uren-termine.adfc.de/radveranstaltung/121964-nach-haltern-durch-die-haard
DTEND:20240831T160000Z
DTSTAMP:20260421T115022Z
DTSTART:20240831T080000Z
LOCATION:Westfalenhalle\, Glasdach U-Bahnstation\, 44139 Dortmund
SEQUENCE:0
SUMMARY:Nach Haltern durch die Haard
UID:47624843-6982-4523-92a5-c223151f2172
URL:https://touren-termine.adfc.de/radveranstaltung/121964-nach-haltern-du
 rch-die-haard
END:VEVENT
END:VCALENDAR
