BEGIN:VCALENDAR
PRODID:-//github.com/rianjs/ical.net//NONSGML ical.net 4.0//EN
VERSION:2.0
BEGIN:VEVENT
DESCRIPTION:Von Bamberg mit dem Zug nach Kronach und weiter nach Bad Stebe
 n. Am Samstag Radtour mit Besichtigung des Museums in Mödlareuth. Sonntag
  Rückfahrt mit dem Rad nach Bamberg. Anmeldung erforderlich!\nhttps://tou
 ren-termine.adfc.de/radveranstaltung/191257-wochenendtour-nach-modlareuth
DTEND:20260802T170000Z
DTSTAMP:20260421T100958Z
DTSTART:20260731T104500Z
LOCATION:Fahrradparkhaus Brennerstraße 9a\, 96052 Bamberg
SEQUENCE:0
SUMMARY:Wochenendtour nach Mödlareuth
UID:e45915bf-083f-4324-b12a-3e6e99776fce
URL:https://touren-termine.adfc.de/radveranstaltung/191257-wochenendtour-n
 ach-modlareuth
END:VEVENT
END:VCALENDAR
